BEGIN:VCALENDAR
VERSION:2.0
PRODID:-//ChamberMaster//Event Calendar 2.0//EN
METHOD:PUBLISH
X-PUBLISHED-TTL:P3D
REFRESH-INTERVAL:P3D
CALSCALE:GREGORIAN
BEGIN:VEVENT
DTSTART:20250315T150000Z
DTEND:20250315T230000Z
X-MICROSOFT-CDO-ALLDAYEVENT:FALSE
SUMMARY:Jefferson Indoor Art Walk
DESCRIPTION:Sip\, nibble and stroll your way around historic downtown Jefferson enjoying art\, music and the local businesses. Local shops will be hosting the artists in their establishments so a good time will be had by all no matter the weather!
X-ALT-DESC;FMTTYPE=text/html:Sip\, nibble and stroll your way around historic downtown Jefferson enjoying art\, music and the local businesses. Local shops will be hosting the artists&nbsp\;in their establishments so a good time&nbsp\;will be had by all no matter the weather!
LOCATION:Historic downtown Jefferson\, Texas
UID:e.1648.15970
SEQUENCE:3
DTSTAMP:20260420T011347Z
URL:http://tylerarea.sampleorg.com/events/details/jefferson-indoor-art-walk-15970
END:VEVENT

END:VCALENDAR
