BEGIN:VCALENDAR
VERSION:2.0
PRODID:-//ChamberMaster//Event Calendar 2.0//EN
METHOD:PUBLISH
X-PUBLISHED-TTL:P3D
REFRESH-INTERVAL:P3D
CALSCALE:GREGORIAN
BEGIN:VEVENT
DTSTART:20250418T000000Z
DTEND:20250418T020000Z
X-MICROSOFT-CDO-ALLDAYEVENT:FALSE
SUMMARY:Jason Crabb in Concert
DESCRIPTION:Join Gospel singing sensation Jason Crabb and his full band at Tyler's Liberty Hall. From growing up performing with his family to singing solo on the Gaither Homecoming series\, you won't want to miss this concert!
X-ALT-DESC;FMTTYPE=text/html:Join Gospel singing sensation Jason Crabb and his full band at Tyler&rsquo\;s Liberty Hall. From growing up performing with his family to singing solo on the Gaither Homecoming series\, you won&rsquo\;t want to miss this concert!
LOCATION:Liberty Hall
UID:e.1648.16058
SEQUENCE:3
DTSTAMP:20260420T012119Z
URL:http://tylerarea.sampleorg.com/events/details/jason-crabb-in-concert-16058
END:VEVENT

END:VCALENDAR
