BEGIN:VCALENDAR
VERSION:2.0
PRODID:-//ChamberMaster//Event Calendar 2.0//EN
METHOD:PUBLISH
X-PUBLISHED-TTL:P3D
REFRESH-INTERVAL:P3D
CALSCALE:GREGORIAN
BEGIN:VEVENT
DTSTART:20250226T013000Z
DTEND:20250226T030000Z
X-MICROSOFT-CDO-ALLDAYEVENT:FALSE
SUMMARY:Jane Pauley
DESCRIPTION:Jane Pauley Tuesday\, February 25\, 2025   7:30 PM CBS Sunday Morning's Jane Pauley is one of broadcasting's most respected journalists and hosts. Prior to anchoring on CBS\, Pauley spent over a decade on NBC's Today and co-hosted Dateline NBC for over a decade. Pauley is the recipient of multiple Emmy Awards \, the Walter Cronkite Award for Excellence in Journalism\, the Edward R. Murrow Award for outstanding achievement\, and the Gracie Allen Award from the Foundation of American Women in Radio & Television. Pauley is a member of the Broadcast and Cable Hall of Fame. She is the author of two New York Times bestsellers: a memoir\, Skywriting: A Life Out of the Blue and Your Life Calling: Reimagining the Rest of Your Life.
X-ALT-DESC;FMTTYPE=text/html:Jane Pauley Tuesday\, February 25\, 2025 &bull\; 7:30 PM CBS Sunday Morning&rsquo\;s Jane Pauley is one of broadcasting&rsquo\;s most respected journalists and hosts. Prior to anchoring on CBS\, Pauley spent over a decade on NBC&#39\;s Today and co-hosted Dateline NBC for over a decade. Pauley is the recipient of multiple Emmy Awards&reg\;\, the Walter Cronkite Award for Excellence in Journalism\, the Edward R. Murrow Award for outstanding achievement\, and the Gracie Allen Award from the Foundation of American Women in Radio &amp\; Television. Pauley is a member of the Broadcast and Cable Hall of Fame. She is the author of two New York Times bestsellers: a memoir\, Skywriting: A Life Out of the Blue and Your Life Calling: Reimagining the Rest of Your Life.
LOCATION:UT Tyler Cowan Center
UID:e.1648.15763
SEQUENCE:3
DTSTAMP:20260420T024727Z
URL:http://tylerarea.sampleorg.com/events/details/jane-pauley-15763
END:VEVENT

END:VCALENDAR
