BEGIN:VCALENDAR
VERSION:2.0
PRODID:-//ChamberMaster//Event Calendar 2.0//EN
METHOD:PUBLISH
X-PUBLISHED-TTL:P3D
REFRESH-INTERVAL:P3D
CALSCALE:GREGORIAN
BEGIN:VEVENT
DTSTART:20260212T210000Z
DTEND:20260212T230000Z
X-MICROSOFT-CDO-ALLDAYEVENT:FALSE
SUMMARY:Italian Aperitivo
DESCRIPTION:Join us as we raise a glass to good company! RSVP Keith Rohlack at keith.rohlack@atriaseniorliving.com
X-ALT-DESC;FMTTYPE=text/html:Join us as we raise a glass to good company! RSVP Keith Rohlack at keith.rohlack@atriaseniorliving.com
LOCATION:5317 New Copeland Rd. Tyler
UID:e.1648.16340
SEQUENCE:3
DTSTAMP:20260419T092400Z
URL:http://tylerarea.sampleorg.com/events/details/italian-aperitivo-16340
END:VEVENT

END:VCALENDAR
