BEGIN:VCALENDAR
VERSION:2.0
PRODID:-//ChamberMaster//Event Calendar 2.0//EN
METHOD:PUBLISH
X-PUBLISHED-TTL:P3D
REFRESH-INTERVAL:P3D
CALSCALE:GREGORIAN
BEGIN:VEVENT
DTSTART:20241015T223000Z
DTEND:20241016T003000Z
X-MICROSOFT-CDO-ALLDAYEVENT:FALSE
SUMMARY:It Takes a Village
DESCRIPTION:Join us for an evening of fun\, food\, and festivities at our It Takes a Village event! This special gathering is designed to bring our community together to celebrate\, connect\, and support neglected children in Smith\, Wood\, & Van Zandt counties. Here's what we have in store for you: ?? Festival Foods: Savor a delightful array of festival foods\, with delicious options to please every palate. Enjoy classic favorites and discover new treats! ?? Activities: Engage in a variety of activities suitable for all ages. From games and crafts to interactive sessions\, there's something for everyone to enjoy. ??? Auction: Participate in our auction and bid on an exciting selection of items. Your contributions will directly support CASA for Kids and children in the East Texas community. Bring your family and friends\, and come experience the warmth and togetherness that truly takes a village. We look forward to seeing you there!
X-ALT-DESC;FMTTYPE=text/html:Join us for an evening of fun\, food\, and festivities at our It Takes a Village event! This special gathering is designed to bring our community together to celebrate\, connect\, and support neglected children in Smith\, Wood\, &amp\; Van Zandt counties. Here&rsquo\;s what we have in store for you: ?? Festival Foods: Savor a delightful array of festival foods\, with delicious options to please every palate. Enjoy classic favorites and discover new treats! ?? Activities: Engage in a variety of activities suitable for all ages. From games and crafts to interactive sessions\, there&#39\;s something for everyone to enjoy. ??? Auction: Participate in our auction and bid on an exciting selection of items. Your contributions will directly support CASA for Kids and children in the East Texas community. Bring your family and friends\, and come experience the warmth and togetherness that truly takes a village. We look forward to seeing you there!
LOCATION:3616 West Way Street\, Tyler\, TX 75703
UID:e.1648.15765
SEQUENCE:3
DTSTAMP:20260420T102242Z
URL:http://tylerarea.sampleorg.com/events/details/it-takes-a-village-15765
END:VEVENT

END:VCALENDAR
