BEGIN:VCALENDAR
VERSION:2.0
PRODID:-//ChamberMaster//Event Calendar 2.0//EN
METHOD:PUBLISH
X-PUBLISHED-TTL:P3D
REFRESH-INTERVAL:P3D
CALSCALE:GREGORIAN
BEGIN:VEVENT
DTSTART:20270320T130000Z
DTEND:20270320T230000Z
X-MICROSOFT-CDO-ALLDAYEVENT:FALSE
SUMMARY:International Day of Happiness
DESCRIPTION:Did you know that happy people live longer? are healthier? are more successful? and have more and better relationships?\nCome join us for a day filled with spreading happiness\, fun and camaraderie!  We want to celebrate the 4th Annual International Day of Happiness with you. We will be hosting a happiness wall. If you can't make it to our wall on the square\, you can still make the world a happier place place by visiting http://HappyActs.org for more details and to receive information about the science of happiness and tips on living a happier\, more purposeful life.
X-ALT-DESC;FMTTYPE=text/html:<h2><em><big><span style="font-family:times new roman"><span style="font-size:14px">Did you know that happy people live longer? are healthier? are more successful? and have more and better relationships?</span></span></big></em></h2>\nCome join us for a day filled with spreading happiness\, fun and camaraderie!&nbsp\; We want to celebrate the 4th Annual International Day of Happiness with you.&nbsp\;We will be hosting a happiness wall.&nbsp\;If you can&#39\;t make it to our wall on the square\, you can still make the world a happier place place by visiting <a href="http://HappyActs.org">http://HappyActs.org</a>&nbsp\;for more details and to receive information about the science of happiness and tips on living a happier\, more purposeful life.
LOCATION:The Downtown Square Tyler N. Broadway@Ferguson@College@Erwin
UID:e.1648.8942
SEQUENCE:3
DTSTAMP:20260419T233042Z
URL:http://tylerarea.sampleorg.com/events/details/international-day-of-happiness-03-20-2027-8942
END:VEVENT

END:VCALENDAR
