BEGIN:VCALENDAR
VERSION:2.0
PRODID:-//ChamberMaster//Event Calendar 2.0//EN
METHOD:PUBLISH
X-PUBLISHED-TTL:P3D
REFRESH-INTERVAL:P3D
CALSCALE:GREGORIAN
BEGIN:VEVENT
DTSTART:20250222T140000Z
DTEND:20250223T220000Z
X-MICROSOFT-CDO-ALLDAYEVENT:FALSE
SUMMARY:Ingrid Klimke Masterclass
DESCRIPTION:Five time Olympian\, Ingrid Klimke is coming to Texas Rose Horse Park in February to give a two day masterclass in Dressage and Eventing working with young horses through the higher levels.
X-ALT-DESC;FMTTYPE=text/html:Five time Olympian\, Ingrid Klimke is coming to Texas Rose Horse Park in February to give a two day masterclass in Dressage and Eventing working with young horses through the higher levels.
LOCATION:Texas Rose Horse Park
UID:e.1648.15919
SEQUENCE:3
DTSTAMP:20260420T024551Z
URL:http://tylerarea.sampleorg.com/events/details/ingrid-klimke-masterclass-15919
END:VEVENT

END:VCALENDAR
