BEGIN:VCALENDAR
VERSION:2.0
PRODID:-//ChamberMaster//Event Calendar 2.0//EN
METHOD:PUBLISH
X-PUBLISHED-TTL:P3D
REFRESH-INTERVAL:P3D
CALSCALE:GREGORIAN
BEGIN:VEVENT
DTSTART:20241026T150000Z
DTEND:20241026T220000Z
X-MICROSOFT-CDO-ALLDAYEVENT:FALSE
SUMMARY:Hot Rods & Cornhole
DESCRIPTION:Celebrating Breast Cancer Awareness Month!! Your support will help fund crucial help in a time of need. As caregivers we all play an important role in the battle against breast cancer. doods for boobs is working to get men more involved in the fight!
X-ALT-DESC;FMTTYPE=text/html:Celebrating Breast Cancer Awareness Month!! Your support will help fund crucial help in a time of need. As caregivers we all play an important role in the battle against breast cancer. doods for boobs is working to get men more involved in the fight!
LOCATION:Buck Wild (old Krazy Cajun) 8374 Paluxy Dr Tyler\, Texas 75703
UID:e.1648.15769
SEQUENCE:3
DTSTAMP:20260420T085327Z
URL:http://tylerarea.sampleorg.com/events/details/hot-rods-cornhole-15769
END:VEVENT

END:VCALENDAR
