BEGIN:VCALENDAR
VERSION:2.0
PRODID:-//ChamberMaster//Event Calendar 2.0//EN
METHOD:PUBLISH
X-PUBLISHED-TTL:P3D
REFRESH-INTERVAL:P3D
CALSCALE:GREGORIAN
BEGIN:VEVENT
DTSTART:20250913T150000Z
DTEND:20250913T170000Z
X-MICROSOFT-CDO-ALLDAYEVENT:FALSE
SUMMARY:Holding Space Workshop: Empowering Communities to Prevent Suicide
DESCRIPTION:Join us on Saturday\, September 13\, from 10 AM 12 PM at Beall Chapel Baptist Church in Jacksonville\, TX for a powerful Holding Space Workshop\, presented by The Evie Effect in partnership with Anam Cara Wellness. This interactive session will give you practical tools for suicide prevention\, help you recognize warning signs\, and teach you how to better support those who may be struggling. Together we'll learn how to create a community where people feel valued and less alone. Thanks to support from the Helen S. Boylan Foundation\, we're able to offer this workshop at a reduced cost of only $10 per person. ?? Register here: https://givebutter.com/HoldingSpaceSept13 Open to ages 16 and over. Because this workshop includes open discussion about suicide and mental health\, children are not permitted.
X-ALT-DESC;FMTTYPE=text/html:Join us on Saturday\, September 13\, from 10 AM&ndash\;12 PM at Beall Chapel Baptist Church in Jacksonville\, TX for a powerful Holding Space Workshop\, presented by The Evie Effect in partnership with Anam Cara Wellness. This interactive session will give you practical tools for suicide prevention\, help you recognize warning signs\, and teach you how to better support those who may be struggling. Together we&rsquo\;ll learn how to create a community where people feel valued and less alone. Thanks to support from the Helen S. Boylan Foundation\, we&rsquo\;re able to offer this workshop at a reduced cost of only $10 per person. ?? Register here: https://givebutter.com/HoldingSpaceSept13 Open to ages 16 and over. Because this workshop includes open discussion about suicide and mental health\, children are not permitted.
LOCATION:Beall Chapel Baptist Church 1861 S Jackson St Jacksonville\, TX 75766
UID:e.1648.16209
SEQUENCE:3
DTSTAMP:20260419T172403Z
URL:http://tylerarea.sampleorg.com/events/details/holding-space-workshop-empowering-communities-to-prevent-suicide-16209
END:VEVENT

END:VCALENDAR
