BEGIN:VCALENDAR
VERSION:2.0
PRODID:-//ChamberMaster//Event Calendar 2.0//EN
METHOD:PUBLISH
X-PUBLISHED-TTL:P3D
REFRESH-INTERVAL:P3D
CALSCALE:GREGORIAN
BEGIN:VEVENT
DTSTART:20250719T220000Z
DTEND:20250720T010000Z
X-MICROSOFT-CDO-ALLDAYEVENT:FALSE
SUMMARY:History on the Horizon: Aviation & Ice Cream
DESCRIPTION:History of Tyler Pounds Field and Aviation in Smith County\, Texas\; along with our ice cream social.
X-ALT-DESC;FMTTYPE=text/html:History of Tyler Pounds Field and Aviation in Smith County\, Texas\; along with our ice cream social.
LOCATION:Tyler Pounds Field\, 150 Airport Dr. Tyler\, TX 75704
UID:e.1648.16182
SEQUENCE:3
DTSTAMP:20260419T192921Z
URL:http://tylerarea.sampleorg.com/events/details/history-on-the-horizon-aviation-ice-cream-16182
END:VEVENT

END:VCALENDAR
