BEGIN:VCALENDAR
VERSION:2.0
PRODID:-//ChamberMaster//Event Calendar 2.0//EN
METHOD:PUBLISH
X-PUBLISHED-TTL:P3D
REFRESH-INTERVAL:P3D
CALSCALE:GREGORIAN
BEGIN:VEVENT
DTSTART:20240718T230000Z
DTEND:20240719T013000Z
X-MICROSOFT-CDO-ALLDAYEVENT:FALSE
SUMMARY:Harmonies for Heroes Concert Event
DESCRIPTION:Join us for an unforgettable evening at Harmonies for Heroes\, a concert event dedicated to honoring our local law enforcement officers! With Latin Beats featuring musicians from the East Texas Symphony Orchestra\, this promises to be a night filled with beautiful melodies and heartfelt tributes. You can expect live music\, delicious food\, refreshing beverages\, and amazing company. Let's come together to show our appreciation for the dedication of our local heroes. Share this event with your friends\, family\, and especially our law enforcement community! Mark your calendars and spread the word - Harmonies for Heroes is an event you won't want to miss!
X-ALT-DESC;FMTTYPE=text/html:Join us for an unforgettable evening at Harmonies for Heroes\, a concert event dedicated to honoring our local law enforcement officers! With Latin Beats featuring musicians from the East Texas Symphony Orchestra\, this promises to be a night filled with beautiful melodies and heartfelt tributes. You can expect live music\, delicious food\, refreshing beverages\, and amazing company. Let&#39\;s come together to show our appreciation for the dedication of our local heroes. Share this event with your friends\, family\, and especially our law enforcement community! Mark your calendars and spread the word - Harmonies for Heroes is an event you won&#39\;t want to miss!
LOCATION:True Vine Brewing Company 2453 Earl Campbell Pkwy\, Tyler\, TX
UID:e.1648.15740
SEQUENCE:3
DTSTAMP:20260420T144733Z
URL:http://tylerarea.sampleorg.com/events/details/harmonies-for-heroes-concert-event-15740
END:VEVENT

END:VCALENDAR
