BEGIN:VCALENDAR
VERSION:2.0
PRODID:-//ChamberMaster//Event Calendar 2.0//EN
METHOD:PUBLISH
X-PUBLISHED-TTL:P3D
REFRESH-INTERVAL:P3D
CALSCALE:GREGORIAN
BEGIN:VEVENT
DTSTART:20241207T000000Z
DTEND:20241207T023000Z
X-MICROSOFT-CDO-ALLDAYEVENT:FALSE
SUMMARY:Green Acres Christmas Tree Lighting
DESCRIPTION:We are so excited to kick off this Christmas Season with you! Come and join us for food\, games\, rides\, worship\, and the lighting of our Christmas Tree! We want this to be a time for you\, your family\, and friends to celebrate the Christmas season with us and have a great place to take some pictures! This Christmas Tree is our gift to YOU! It will be up all Christmas season.
X-ALT-DESC;FMTTYPE=text/html:We are so excited to kick off this Christmas Season with you! Come and join us for food\, games\, rides\, worship\, and the lighting of our Christmas Tree! We want this to be a time for you\, your family\, and friends to celebrate the Christmas season with us and have a great place to take some pictures! This Christmas Tree is our gift to YOU! It will be up all Christmas season.
LOCATION:Green Acres Tyler Campus North Parking Lot 1607 Troup Highway Tyler\, Tx 75701
UID:e.1648.15874
SEQUENCE:3
DTSTAMP:20260420T061523Z
URL:http://tylerarea.sampleorg.com/events/details/green-acres-christmas-tree-lighting-15874
END:VEVENT

END:VCALENDAR
