BEGIN:VCALENDAR
VERSION:2.0
PRODID:-//ChamberMaster//Event Calendar 2.0//EN
METHOD:PUBLISH
X-PUBLISHED-TTL:P3D
REFRESH-INTERVAL:P3D
CALSCALE:GREGORIAN
BEGIN:VEVENT
DTSTART:20250219T150000Z
DTEND:20250219T173000Z
X-MICROSOFT-CDO-ALLDAYEVENT:FALSE
SUMMARY:Grant Tracking in QuickBooks
DESCRIPTION:This seminar delves into better management of fund accounting through entering budgets\, tracking grants\, developing reports\, etc.
X-ALT-DESC;FMTTYPE=text/html:This seminar delves into better management of fund accounting through entering budgets\, tracking grants\, developing reports\, etc.
LOCATION:East Texas Center for Nonprofits 911 S Broadway\, Tyler\, TX
UID:e.1648.15980
SEQUENCE:3
DTSTAMP:20260420T024703Z
URL:http://tylerarea.sampleorg.com/events/details/grant-tracking-in-quickbooks-15980
END:VEVENT

END:VCALENDAR
