BEGIN:VCALENDAR
VERSION:2.0
PRODID:-//ChamberMaster//Event Calendar 2.0//EN
METHOD:PUBLISH
X-PUBLISHED-TTL:P3D
REFRESH-INTERVAL:P3D
CALSCALE:GREGORIAN
BEGIN:VEVENT
DTSTART:20250519T150000Z
DTEND:20250525T010000Z
X-MICROSOFT-CDO-ALLDAYEVENT:FALSE
SUMMARY:Go full throttle with Optimum & FOX INDYCAR
DESCRIPTION:Optimum and FOX want to get you race day ready for the Indy 500. Stop by the Optimum Store in Tyler from 5/19-5/24 to snag some giveaways and enter for a chance to win a FOX INDYCAR prize pack including a racing helmet and diecast car. RSVP: https://forms.office.com/r/FhFtXEy3fF
X-ALT-DESC;FMTTYPE=text/html:Optimum and FOX want to get you race day ready for the Indy 500. Stop by the Optimum Store in Tyler from 5/19-5/24 to snag some giveaways and enter for a chance to win a FOX INDYCAR prize pack including a racing helmet and diecast car. RSVP: https://forms.office.com/r/FhFtXEy3fF
LOCATION:Tyler Optimum Store - 4949 S Broadway Ave\, Tyler\, TX
UID:e.1648.16154
SEQUENCE:3
DTSTAMP:20260419T221409Z
URL:http://tylerarea.sampleorg.com/events/details/go-full-throttle-with-optimum-fox-indycar-16154
END:VEVENT

END:VCALENDAR
