BEGIN:VCALENDAR
VERSION:2.0
PRODID:-//ChamberMaster//Event Calendar 2.0//EN
METHOD:PUBLISH
X-PUBLISHED-TTL:P3D
REFRESH-INTERVAL:P3D
CALSCALE:GREGORIAN
BEGIN:VEVENT
DTSTART:20250322T230000Z
DTEND:20250323T020000Z
X-MICROSOFT-CDO-ALLDAYEVENT:FALSE
SUMMARY:Garden Valley Radio\, Live at Fresh by Brookshires
DESCRIPTION:Join Garden Valley Radio for an evening of music under the stars. They will perform a wide selection of songs by Rolling Stones\, Talking Heads\, The Beatles\, Neil Young\, The Police\, R.E.M. and more!
X-ALT-DESC;FMTTYPE=text/html:Join Garden Valley Radio for an evening of music under the stars. They will perform a wide selection of songs by Rolling Stones\, Talking Heads\, The Beatles\, Neil Young\, The Police\, R.E.M. and more!
LOCATION:Fresh by Brookshire's 6991 Old Jacksonville Hwy Tyler\, TX 75703
UID:e.1648.16062
SEQUENCE:3
DTSTAMP:20260420T011646Z
URL:http://tylerarea.sampleorg.com/events/details/garden-valley-radio-live-at-fresh-by-brookshires-16062
END:VEVENT

END:VCALENDAR
