BEGIN:VCALENDAR
VERSION:2.0
PRODID:-//ChamberMaster//Event Calendar 2.0//EN
METHOD:PUBLISH
X-PUBLISHED-TTL:P3D
REFRESH-INTERVAL:P3D
CALSCALE:GREGORIAN
BEGIN:VEVENT
DTSTART:20251104T220000Z
DTEND:20251105T020000Z
X-MICROSOFT-CDO-ALLDAYEVENT:FALSE
SUMMARY:Fundraiser
DESCRIPTION:Raising funds to support our income-based program designed for parents who need financial assistance.
X-ALT-DESC;FMTTYPE=text/html:Raising funds to support our income-based program designed for parents who need financial assistance.
LOCATION:4751 S Broadway Ave\, Tyler\, TX 75703-1309
UID:e.1648.16245
SEQUENCE:3
DTSTAMP:20260419T124856Z
URL:http://tylerarea.sampleorg.com/events/details/fundraiser-16245
END:VEVENT

END:VCALENDAR
