BEGIN:VCALENDAR
VERSION:2.0
PRODID:-//ChamberMaster//Event Calendar 2.0//EN
METHOD:PUBLISH
X-PUBLISHED-TTL:P3D
REFRESH-INTERVAL:P3D
CALSCALE:GREGORIAN
BEGIN:VEVENT
DTSTART:20241015T150000Z
DTEND:20241101T000000Z
X-MICROSOFT-CDO-ALLDAYEVENT:FALSE
SUMMARY:Friends and Family Event
DESCRIPTION:We're offering a limited-time Friends and Family deal from Oct. 15-31 on our Sleep Number smart beds\, and I'd love for you to take advantage of it to start getting the best sleep of your life. Interested in learning more?" 50% OFF Limited Edition iLE smart bed 40% OFF Innovation Series smart beds\, Memory Foam Series smart beds and upholstered furniture 30% OFF Performance Series smart beds\, bedding collection items and DualTemp  layers 25% OFF Integrated and FlexFit  smart adjustable bases 20% OFF Classic Series smart beds and Climate   series\, including Climate360  and ClimateCool  PLUS\, SPECIAL FINANCING with a Sleep Number  credit card through 10/31/25.
X-ALT-DESC;FMTTYPE=text/html:We&rsquo\;re offering a limited-time Friends and Family deal from Oct. 15-31 on our Sleep Number smart beds\, and I&rsquo\;d love for you to take advantage of it to start getting the best sleep of your life. Interested in learning more?&quot\; 50% OFF Limited Edition iLE smart bed 40% OFF Innovation Series smart beds\, Memory Foam Series smart beds and upholstered furniture 30% OFF Performance Series smart beds\, bedding collection items and DualTemp&reg\; layers 25% OFF Integrated and FlexFit&trade\; smart adjustable bases 20% OFF Classic Series smart beds and Climate &trade\; series\, including Climate360&reg\; and ClimateCool&trade\; PLUS\, SPECIAL FINANCING with a Sleep Number&reg\; credit card through 10/31/25.
LOCATION:4760 S. Broadway Ave. Tyler\, TX
UID:e.1648.15833
SEQUENCE:3
DTSTAMP:20260420T090303Z
URL:http://tylerarea.sampleorg.com/events/details/friends-and-family-event-15833
END:VEVENT

END:VCALENDAR
