BEGIN:VCALENDAR
VERSION:2.0
PRODID:-//ChamberMaster//Event Calendar 2.0//EN
METHOD:PUBLISH
X-PUBLISHED-TTL:P3D
REFRESH-INTERVAL:P3D
CALSCALE:GREGORIAN
BEGIN:VEVENT
DTSTART:20250704T123000Z
DTEND:20250704T150000Z
X-MICROSOFT-CDO-ALLDAYEVENT:FALSE
SUMMARY:Freedom Fighter 5K & Lil' Firecracker Kid Dash
DESCRIPTION:#RunForFreedom with us in the heart of Tyler\, TX! Come celebrate the Fourth of July holiday with fitness\, fun\, and philanthropy - run or walk the patriotic\, family-friendly Freedom Fighter 5K and Lil' Firecracker Kids Dash! We are proud to #RunForFreedom and will be donating a portion of race proceeds to Operation True North.
X-ALT-DESC;FMTTYPE=text/html:#RunForFreedom with us in the heart of Tyler\, TX! Come celebrate the Fourth of July holiday with fitness\, fun\, and philanthropy - run or walk the patriotic\, family-friendly Freedom Fighter 5K and Lil&#39\; Firecracker Kids Dash! We are proud to #RunForFreedom and will be donating a portion of race proceeds to Operation True North.
LOCATION:Bergfeld Park
UID:e.1648.15984
SEQUENCE:3
DTSTAMP:20260419T192620Z
URL:http://tylerarea.sampleorg.com/events/details/freedom-fighter-5k-lil-firecracker-kid-dash-15984
END:VEVENT

END:VCALENDAR
