BEGIN:VCALENDAR
VERSION:2.0
PRODID:-//ChamberMaster//Event Calendar 2.0//EN
METHOD:PUBLISH
X-PUBLISHED-TTL:P3D
REFRESH-INTERVAL:P3D
CALSCALE:GREGORIAN
BEGIN:VEVENT
DTSTART:20240822T150000Z
DTEND:20240822T152000Z
X-MICROSOFT-CDO-ALLDAYEVENT:FALSE
SUMMARY:First Episode of the Small Business Advantage Podcast
DESCRIPTION:Introducing: The Small Business Advantage - East Texas Edition! We're excited to launch the very first episode of our podcast\, The Small Business Advantage - East Texas Edition! This podcast is all about empowering local business owners with the education\, resources\, and support they need to thrive in today's fast-paced world. In each episode\, we'll dive into the latest in AI and automation\, share insightful interviews with local business leaders\, and provide practical tips that you can use to grow and succeed. Whether you're a seasoned entrepreneur or just starting out\, there's something here for everyone. Tune in to take the first step toward elevating your business to the next level! ?? http://OmniAISystems.com/podcast Stay tuned for more episodes filled with valuable insights and real-world advice. We can't wait to share this journey with you!
X-ALT-DESC;FMTTYPE=text/html:Introducing: The Small Business Advantage - East Texas Edition! We&#39\;re excited to launch the very first episode of our podcast\, The Small Business Advantage - East Texas Edition! This podcast is all about empowering local business owners with the education\, resources\, and support they need to thrive in today&#39\;s fast-paced world. In each episode\, we&#39\;ll dive into the latest in AI and automation\, share insightful interviews with local business leaders\, and provide practical tips that you can use to grow and succeed. Whether you&#39\;re a seasoned entrepreneur or just starting out\, there&#39\;s something here for everyone. Tune in to take the first step toward elevating your business to the next level! ?? http://OmniAISystems.com/podcast Stay tuned for more episodes filled with valuable insights and real-world advice. We can&#39\;t wait to share this journey with you!
LOCATION:http://OmniAISystems.com/podcast
UID:e.1648.15805
SEQUENCE:3
DTSTAMP:20260420T120437Z
URL:http://tylerarea.sampleorg.com/events/details/first-episode-of-the-small-business-advantage-podcast-15805
END:VEVENT

END:VCALENDAR
