BEGIN:VCALENDAR
VERSION:2.0
PRODID:-//ChamberMaster//Event Calendar 2.0//EN
METHOD:PUBLISH
X-PUBLISHED-TTL:P3D
REFRESH-INTERVAL:P3D
CALSCALE:GREGORIAN
BEGIN:VEVENT
DTSTART:20241214T170000Z
DTEND:20241214T210000Z
X-MICROSOFT-CDO-ALLDAYEVENT:FALSE
SUMMARY:Fannin Meadows Open House Event
DESCRIPTION:?? Fannin Meadows Open House Event! ?? Join us this Saturday at Fannin Meadows\, Tyler\, Texas\, for an exciting Open House event! Explore our brand-new homes\, enjoy refreshments\, and pick up a holiday goodie bag! ?? Fun Scavenger Hunt: Participate for a chance to win a gift basket filled with awesome goodies! ?? End of Year Blowout Special: We're offering several financing options No money required for approval. Programs include Rents\, Lease to Own\, and In-House Financing. ?? Mark your calendars and bring your friends! If you're looking for a new home before the holidays\, don't miss out on this fantastic opportunity. ?? Take photos of our beautiful 3 & 4 bedroom homes! We can't wait to see you there!
X-ALT-DESC;FMTTYPE=text/html:?? Fannin Meadows Open House Event! ?? Join us this Saturday at Fannin Meadows\, Tyler\, Texas\, for an exciting Open House event! Explore our brand-new homes\, enjoy refreshments\, and pick up a holiday goodie bag! ?? Fun Scavenger Hunt: Participate for a chance to win a gift basket filled with awesome goodies! ?? End of Year Blowout Special: We&rsquo\;re offering several financing options&mdash\;No money required for approval. Programs include Rents\, Lease to Own\, and In-House Financing. ?? Mark your calendars and bring your friends! If you&#39\;re looking for a new home before the holidays\, don&rsquo\;t miss out on this fantastic opportunity. ?? Take photos of our beautiful 3 &amp\; 4 bedroom homes! We can&#39\;t wait to see you there!
LOCATION:12277 State Hwy 155 Tyler\, Tx 75708
UID:e.1648.15906
SEQUENCE:3
DTSTAMP:20260420T073300Z
URL:http://tylerarea.sampleorg.com/events/details/fannin-meadows-open-house-event-12-14-2024-15906
END:VEVENT

END:VCALENDAR
