BEGIN:VCALENDAR
VERSION:2.0
PRODID:-//ChamberMaster//Event Calendar 2.0//EN
METHOD:PUBLISH
X-PUBLISHED-TTL:P3D
REFRESH-INTERVAL:P3D
CALSCALE:GREGORIAN
BEGIN:VEVENT
DTSTART:20251101T190000Z
DTEND:20251101T220000Z
X-MICROSOFT-CDO-ALLDAYEVENT:FALSE
SUMMARY:Family Fall Carnival
DESCRIPTION:Fall Carnival for families
X-ALT-DESC;FMTTYPE=text/html:Fall Carnival for families
LOCATION:Tyler Day Nursery 2901 West Gentry Pkwy. Tyler Texas
UID:e.1648.16244
SEQUENCE:3
DTSTAMP:20260419T125114Z
URL:http://tylerarea.sampleorg.com/events/details/family-fall-carnival-16244
END:VEVENT

END:VCALENDAR
