BEGIN:VCALENDAR
VERSION:2.0
PRODID:-//ChamberMaster//Event Calendar 2.0//EN
METHOD:PUBLISH
X-PUBLISHED-TTL:P3D
REFRESH-INTERVAL:P3D
CALSCALE:GREGORIAN
BEGIN:VEVENT
DTSTART:20251009T130000Z
DTEND:20251012T210000Z
X-MICROSOFT-CDO-ALLDAYEVENT:FALSE
SUMMARY:Fall Fun
DESCRIPTION:Horse and rider combination of all ages and levels compete over pre-set obstacles in multiple arenas. Fun and exciting time for the entire family to experience.
X-ALT-DESC;FMTTYPE=text/html:Horse and rider combination of all ages and levels compete over pre-set obstacles in multiple arenas. Fun and exciting time for the entire family to experience.
LOCATION:Texas Rose Horse Park
UID:e.1648.15948
SEQUENCE:3
DTSTAMP:20260419T141959Z
URL:http://tylerarea.sampleorg.com/events/details/fall-fun-15948
END:VEVENT

END:VCALENDAR
