BEGIN:VCALENDAR
VERSION:2.0
PRODID:-//ChamberMaster//Event Calendar 2.0//EN
METHOD:PUBLISH
X-PUBLISHED-TTL:P3D
REFRESH-INTERVAL:P3D
CALSCALE:GREGORIAN
BEGIN:VEVENT
DTSTART:20251011T170000Z
DTEND:20251012T010000Z
X-MICROSOFT-CDO-ALLDAYEVENT:FALSE
SUMMARY:Evie Rocks Tyler Suicide Awareness Concert
DESCRIPTION:Join us for the 4th annual Evie Rocks Tyler\, a free community concert at True Vine Brewing Company dedicated to breaking the stigma surrounding mental health and suicide. This family-friendly event features a full day of live music\, inspiring speakers\, nonprofit resource booths\, and opportunities to connect with others across East Texas. Event Schedule 12:00 PM   Eve's Road 1:00 PM   12 Miles South 2:00 PM   Midlife Chryslers 3:00 PM   Ho James Band 4:00 PM   Speaker Hour (stories of resilience\, prevention\, and community) 5:00 PM   Killer Cranes 6:00 PM   Soulshine 7:00 PM   Toil the Earth With more than 2\,000 attendees expected\, Evie Rocks Tyler is more than just a concert it's a movement to raise awareness\, share resources\, and remind our community that no one walks alone. ?? Follow us on Facebook for live updates and event details: facebook.com/EvieEffect For more information\, visit evieeffect.org/evie-rocks-tyler .
X-ALT-DESC;FMTTYPE=text/html:Join us for the 4th annual Evie Rocks Tyler\, a free community concert at True Vine Brewing Company dedicated to breaking the stigma surrounding mental health and suicide. This family-friendly event features a full day of live music\, inspiring speakers\, nonprofit resource booths\, and opportunities to connect with others across East Texas. Event Schedule 12:00 PM &ndash\; Eve&rsquo\;s Road 1:00 PM &ndash\; 12 Miles South 2:00 PM &ndash\; Midlife Chryslers 3:00 PM &ndash\; Ho James Band 4:00 PM &ndash\; Speaker Hour (stories of resilience\, prevention\, and community) 5:00 PM &ndash\; Killer Cranes 6:00 PM &ndash\; Soulshine 7:00 PM &ndash\; Toil the Earth With more than 2\,000 attendees expected\, Evie Rocks Tyler is more than just a concert&mdash\;it&rsquo\;s a movement to raise awareness\, share resources\, and remind our community that no one walks alone. ?? Follow us on Facebook for live updates and event details: facebook.com/EvieEffect For more information\, visit evieeffect.org/evie-rocks-tyler .
LOCATION:True Vine Brewing Company 2453 Earl Campbell Parkway Tyler\, TX 75701
UID:e.1648.16207
SEQUENCE:3
DTSTAMP:20260419T160035Z
URL:http://tylerarea.sampleorg.com/events/details/evie-rocks-tyler-suicide-awareness-concert-10-11-2025-16207
END:VEVENT

END:VCALENDAR
