BEGIN:VCALENDAR
VERSION:2.0
PRODID:-//ChamberMaster//Event Calendar 2.0//EN
METHOD:PUBLISH
X-PUBLISHED-TTL:P3D
REFRESH-INTERVAL:P3D
CALSCALE:GREGORIAN
BEGIN:VEVENT
DTSTART:20250924T183000Z
DTEND:20250925T013000Z
X-MICROSOFT-CDO-ALLDAYEVENT:FALSE
SUMMARY:Everything's Coming Up Roses! Featuring Deborah De La Flor AIFD CFD PFCI
DESCRIPTION:Registration is open for the TSFA Texas Floral Showcase in Tyler on Wednesday\, Sept. 24\, 2025. Attend this event to experience a wonderland of enchanting florals! Enjoy a design presentation led by the ingenious Deborah De La Flor\, stroll through the museum and garden\, enjoy an Alice in Wonderland-themed tea among friends and much more. Register for the optional hands-on workshop to go down the rabbit hole with De La Flor and gather design innovations that will inspire you for years to come. This educational experience will offer a something for every floral enthusiast!
X-ALT-DESC;FMTTYPE=text/html:Registration is open for the TSFA Texas Floral Showcase in Tyler on Wednesday\, Sept. 24\, 2025. Attend this event to experience a wonderland of enchanting florals! Enjoy a design presentation led by the ingenious Deborah De La Flor\, stroll through the museum and garden\, enjoy an Alice in Wonderland-themed tea among friends and much more. Register for the optional hands-on workshop to go down the rabbit hole with De La Flor and gather design innovations that will inspire you for years to come. This educational experience will offer a something for every floral enthusiast!
LOCATION:Tyler Rose Garden Center\, 420 South Rose Park Drive\, Tyler\, Texas
UID:e.1648.16200
SEQUENCE:3
DTSTAMP:20260419T160226Z
URL:http://tylerarea.sampleorg.com/events/details/everything-s-coming-up-roses-featuring-deborah-de-la-flor-aifd-cfd-pfci-16200
END:VEVENT

END:VCALENDAR
