BEGIN:VCALENDAR
VERSION:2.0
PRODID:-//ChamberMaster//Event Calendar 2.0//EN
METHOD:PUBLISH
X-PUBLISHED-TTL:P3D
REFRESH-INTERVAL:P3D
CALSCALE:GREGORIAN
BEGIN:VEVENT
DTSTART:20250501T150000Z
DTEND:20250531T030000Z
X-MICROSOFT-CDO-ALLDAYEVENT:FALSE
SUMMARY:Equine Expressions Collection Art Exhibit by Robyn Parker Feehan
DESCRIPTION:The exhibition runs throughout the month of May\, providing ample opportunity for visitors to immerse themselves in this exquisite minimalist exploration of equine grace. Each piece is not just a visual treat\, but also a doorway to an emotional journey\, resonating with all who share an admiration for the elegance and strength of horses.
X-ALT-DESC;FMTTYPE=text/html:The exhibition runs throughout the month of May\, providing ample opportunity for visitors to immerse themselves in this exquisite minimalist exploration of equine grace. Each piece is not just a visual treat\, but also a doorway to an emotional journey\, resonating with all who share an admiration for the elegance and strength of horses.
LOCATION:THE FOUNDRY COFFEE HOUSE 202 South Broadway Avenue Tyler\, TX\, 75702
UID:e.1648.16073
SEQUENCE:3
DTSTAMP:20260419T221613Z
URL:http://tylerarea.sampleorg.com/events/details/equine-expressions-collection-art-exhibit-by-robyn-parker-feehan-16073
END:VEVENT

END:VCALENDAR
