BEGIN:VCALENDAR
VERSION:2.0
PRODID:-//ChamberMaster//Event Calendar 2.0//EN
METHOD:PUBLISH
X-PUBLISHED-TTL:P3D
REFRESH-INTERVAL:P3D
CALSCALE:GREGORIAN
BEGIN:VEVENT
DTSTART:20250718T230000Z
DTEND:20250719T010000Z
X-MICROSOFT-CDO-ALLDAYEVENT:FALSE
SUMMARY:Educator Open House
DESCRIPTION:We are excited to invite all educators to our Educator Open House on July 18\, 2025\, from 6:00pm   8:00pm. This is a completely free event just for you! Come and enjoy this adults-only event\, mingle with other teachers\, and enjoy the following: Taco Truck Margaritas Planetarium shows S.T.E.M activities Museum tours Giveaways Registration opens March 17th!
X-ALT-DESC;FMTTYPE=text/html:We are excited to invite all educators to our Educator Open House on July 18\, 2025\, from 6:00pm &ndash\; 8:00pm. This is a completely free event just for you! Come and enjoy this adults-only event\, mingle with other teachers\, and enjoy the following: Taco Truck Margaritas Planetarium shows S.T.E.M activities Museum tours Giveaways Registration opens March 17th!
LOCATION:Discovery Science Place 308 N. Broadway Tyler\, TX 75702
UID:e.1648.16009
SEQUENCE:3
DTSTAMP:20260419T192623Z
URL:http://tylerarea.sampleorg.com/events/details/educator-open-house-16009
END:VEVENT

END:VCALENDAR
