BEGIN:VCALENDAR
VERSION:2.0
PRODID:-//ChamberMaster//Event Calendar 2.0//EN
METHOD:PUBLISH
X-PUBLISHED-TTL:P3D
REFRESH-INTERVAL:P3D
CALSCALE:GREGORIAN
BEGIN:VEVENT
DTSTART;VALUE=DATE:20241012
DTEND;VALUE=DATE:20241014
TRANSP:TRANSPARENT
X-MICROSOFT-CDO-ALLDAYEVENT:TRUE
SUMMARY:Edom Art Festival
DESCRIPTION:52nd Annual Edom Art Festival Sponsored by the Edom Craft Community October 12-13\, 2024 | 10am-5pm A Celebration of Art and Life! Two Days of Art\, Food and Music
X-ALT-DESC;FMTTYPE=text/html:52nd Annual Edom Art Festival Sponsored by the Edom Craft Community October 12-13\, 2024 | 10am-5pm A Celebration of Art and Life! Two Days of Art\, Food and Music
LOCATION:Edom\, Texas
UID:e.1648.15723
SEQUENCE:3
DTSTAMP:20260420T102650Z
URL:http://tylerarea.sampleorg.com/events/details/edom-art-festival-15723
END:VEVENT

END:VCALENDAR
