BEGIN:VCALENDAR
VERSION:2.0
PRODID:-//ChamberMaster//Event Calendar 2.0//EN
METHOD:PUBLISH
X-PUBLISHED-TTL:P3D
REFRESH-INTERVAL:P3D
CALSCALE:GREGORIAN
BEGIN:VEVENT
DTSTART:20251024T150000Z
DTEND:20251024T180000Z
X-MICROSOFT-CDO-ALLDAYEVENT:FALSE
SUMMARY:East Texas White Cane Day
DESCRIPTION:Join us for the 3rd Annual East Texas White Cane Day as we celebrate the independence\, achievements\, and contributions of individuals who are blind or visually impaired. This free\, family-friendly event will feature: Live DJ Group Walk at 10:30 AM Food Trucks Vendors Activities & Prizes Event T-shirts available Come enjoy a morning of community\, celebration\, and awareness!
X-ALT-DESC;FMTTYPE=text/html:Join us for the 3rd Annual East Texas White Cane Day as we celebrate the independence\, achievements\, and contributions of individuals who are blind or visually impaired. This free\, family-friendly event will feature: Live DJ Group Walk at 10:30 AM Food Trucks Vendors Activities &amp\; Prizes Event T-shirts available Come enjoy a morning of community\, celebration\, and awareness!
LOCATION:Bergfeld Park in Tyler
UID:e.1648.16211
SEQUENCE:3
DTSTAMP:20260419T160600Z
URL:http://tylerarea.sampleorg.com/events/details/east-texas-white-cane-day-10-24-2025-16211
END:VEVENT

END:VCALENDAR
