BEGIN:VCALENDAR
VERSION:2.0
PRODID:-//ChamberMaster//Event Calendar 2.0//EN
METHOD:PUBLISH
X-PUBLISHED-TTL:P3D
REFRESH-INTERVAL:P3D
CALSCALE:GREGORIAN
BEGIN:VEVENT
DTSTART:20241011T150000Z
DTEND:20241011T190000Z
X-MICROSOFT-CDO-ALLDAYEVENT:FALSE
SUMMARY:East Texas White Cane Day
DESCRIPTION:The 2nd annual East Texas White Cane Day event is Friday\, October 11th\, at Bergfeld Park in Tyler! Join the fun from 10 a.m. to 2 p.m. as we celebrate the achievements of people who are blind or visually impaired and the important symbol of blindness and tool of independence\, the white cane. With free t-shirts\, plenty of vendor booths\, food trucks\, and prize giveaways\, you don't want to miss it!
X-ALT-DESC;FMTTYPE=text/html:The 2nd annual East Texas White Cane Day event is Friday\, October 11th\, at Bergfeld Park in Tyler! Join the fun from 10 a.m. to 2 p.m. as we celebrate the achievements of people who are blind or visually impaired and the important symbol of blindness and tool of independence\, the white cane. With free t-shirts\, plenty of vendor booths\, food trucks\, and prize giveaways\, you don&rsquo\;t want to miss it!
LOCATION:Bergfeld Park in Tyler
UID:e.1648.15817
SEQUENCE:3
DTSTAMP:20260420T090305Z
URL:http://tylerarea.sampleorg.com/events/details/east-texas-white-cane-day-10-11-2024-15817
END:VEVENT

END:VCALENDAR
