BEGIN:VCALENDAR
VERSION:2.0
PRODID:-//ChamberMaster//Event Calendar 2.0//EN
METHOD:PUBLISH
X-PUBLISHED-TTL:P3D
REFRESH-INTERVAL:P3D
CALSCALE:GREGORIAN
BEGIN:VEVENT
DTSTART:20250405T150000Z
DTEND:20250405T200000Z
X-MICROSOFT-CDO-ALLDAYEVENT:FALSE
SUMMARY:East Texas Fire & Nature Festival
DESCRIPTION:The East Texas Fire and Nature Festival is a free festival demonstrates the multiple benefits of prescribed fire and focuses on increasing public familiarity and understanding of its role in the ecology of the Pineywoods. Participants will be able to join nature hikes and talks\, see wildland fire trucks\, access hands-on fire equipment and kids' activities highlighting wildlife and science and watch a live prescribed fire demonstration\, weather permitting.
X-ALT-DESC;FMTTYPE=text/html:The East Texas Fire and Nature Festival is a free festival demonstrates the multiple benefits of prescribed fire and focuses on increasing public familiarity and understanding of its role in the ecology of the Pineywoods. Participants will be able to join nature hikes and talks\, see wildland fire trucks\, access hands-on fire equipment and kids&rsquo\; activities highlighting wildlife and science and watch a live prescribed fire demonstration\, weather permitting.
LOCATION:Tyler Nature Center\, 11942 FM 848\, Tyler\, TX 75707
UID:e.1648.16013
SEQUENCE:3
DTSTAMP:20260420T011524Z
URL:http://tylerarea.sampleorg.com/events/details/east-texas-fire-nature-festival-16013
END:VEVENT

END:VCALENDAR
