BEGIN:VCALENDAR
VERSION:2.0
PRODID:-//ChamberMaster//Event Calendar 2.0//EN
METHOD:PUBLISH
X-PUBLISHED-TTL:P3D
REFRESH-INTERVAL:P3D
CALSCALE:GREGORIAN
BEGIN:VEVENT
DTSTART:20240810T150000Z
DTEND:20240810T190000Z
X-MICROSOFT-CDO-ALLDAYEVENT:FALSE
SUMMARY:East Texas Back 2 School Veterans Resource Fair
DESCRIPTION:On behalf of the Texas Veterans Land Board\, the Texas Veterans Commission\, and the University of Texas at Tyler\, you are cordially invited to the upcoming East Texas Back 2 School Veteran Resource Fair on Saturday\, August 10\, 2024\, from 10:00 AM to 2:00 PM. This event is co-hosted by the Texas Veterans Land Board\, the Texas Veterans Commission\, and the University of Texas at Tyler. The event will be open to all current Military members\, Veterans\, and their family members located in the counties of Smith\, Henderson\, Van Zandt\, Wood\, Upshur\, Gregg\, Rusk\, and more!
X-ALT-DESC;FMTTYPE=text/html:On behalf of the Texas Veterans Land Board\, the Texas Veterans Commission\, and the University of Texas at Tyler\, you are cordially invited to the upcoming East Texas Back 2 School Veteran Resource Fair on Saturday\, August 10\, 2024\, from 10:00 AM to 2:00 PM. This event is co-hosted by the Texas Veterans Land Board\, the Texas Veterans Commission\, and the University of Texas at Tyler. The event will be open to all current Military members\, Veterans\, and their family members located in the counties of Smith\, Henderson\, Van Zandt\, Wood\, Upshur\, Gregg\, Rusk\, and more!
LOCATION:UT Tyler University Ballroom\, 3900 University Blvd. Tyler TX
UID:e.1648.15779
SEQUENCE:3
DTSTAMP:20260420T120209Z
URL:http://tylerarea.sampleorg.com/events/details/east-texas-back-2-school-veterans-resource-fair-15779
END:VEVENT

END:VCALENDAR
