BEGIN:VCALENDAR
VERSION:2.0
PRODID:-//ChamberMaster//Event Calendar 2.0//EN
METHOD:PUBLISH
X-PUBLISHED-TTL:P3D
REFRESH-INTERVAL:P3D
CALSCALE:GREGORIAN
BEGIN:VEVENT
DTSTART:20250515T170000Z
DTEND:20250515T180000Z
X-MICROSOFT-CDO-ALLDAYEVENT:FALSE
SUMMARY:Doing The Most Good Luncheon
DESCRIPTION:Please join us at our annual fundraiser\, I'll Fight\, for a lunch and learn event.
X-ALT-DESC;FMTTYPE=text/html:Please join us at our annual fundraiser\, I&#39\;ll Fight\, for a lunch and learn event.
LOCATION:The Salvation Army SAWA Building 715 N Spring Avenue Tyler\, TX 75702
UID:e.1648.16039
SEQUENCE:3
DTSTAMP:20260419T234328Z
URL:http://tylerarea.sampleorg.com/events/details/doing-the-most-good-luncheon-16039
END:VEVENT

END:VCALENDAR
