BEGIN:VCALENDAR
VERSION:2.0
PRODID:-//ChamberMaster//Event Calendar 2.0//EN
METHOD:PUBLISH
X-PUBLISHED-TTL:P3D
REFRESH-INTERVAL:P3D
CALSCALE:GREGORIAN
BEGIN:VEVENT
DTSTART:20250515T233000Z
DTEND:20250516T003000Z
X-MICROSOFT-CDO-ALLDAYEVENT:FALSE
SUMMARY:Doing The Most Good Luncheon
DESCRIPTION:Please join us at our annual fundraiser\, I'll Fight\, for a dinner and learn event.
X-ALT-DESC;FMTTYPE=text/html:Please join us at our annual fundraiser\, I&#39\;ll Fight\, for a dinner and learn event.
LOCATION:The Salvation Army SAWA Building 715 N Spring Avenue Tyler\, TX 75702
UID:e.1648.16040
SEQUENCE:3
DTSTAMP:20260419T221615Z
URL:http://tylerarea.sampleorg.com/events/details/doing-the-most-good-luncheon-05-15-2025-16040
END:VEVENT

END:VCALENDAR
