BEGIN:VCALENDAR
VERSION:2.0
PRODID:-//ChamberMaster//Event Calendar 2.0//EN
METHOD:PUBLISH
X-PUBLISHED-TTL:P3D
REFRESH-INTERVAL:P3D
CALSCALE:GREGORIAN
BEGIN:VEVENT
DTSTART:20250307T000000Z
DTEND:20250307T010000Z
X-MICROSOFT-CDO-ALLDAYEVENT:FALSE
SUMMARY:Disabled American Veterans Monthly
DESCRIPTION:Disabled American Veterans Monthly Meeting
X-ALT-DESC;FMTTYPE=text/html:Disabled American Veterans Monthly Meeting
LOCATION:Golden Corral 5602 S Broadway Ave Tyler\, TX 75703
UID:e.1648.15992
SEQUENCE:3
DTSTAMP:20260420T011424Z
URL:http://tylerarea.sampleorg.com/events/details/disabled-american-veterans-monthly-15992
END:VEVENT

END:VCALENDAR
