BEGIN:VCALENDAR
VERSION:2.0
PRODID:-//ChamberMaster//Event Calendar 2.0//EN
METHOD:PUBLISH
X-PUBLISHED-TTL:P3D
REFRESH-INTERVAL:P3D
CALSCALE:GREGORIAN
BEGIN:VEVENT
DTSTART:20241020T010000Z
DTEND:20241020T200000Z
X-MICROSOFT-CDO-ALLDAYEVENT:FALSE
SUMMARY:DHJSC Hunter Jumper Year End Show
DESCRIPTION:There are three main divisions at a hunter/jumper horse show: hunter\, jumper and equitation. In all three\, a rider guides a horse over a set course of obstacles in a ring. Horse and rider who belong to the Dallas Hunter & Jumper Scholarship Club will compete after earning points throughout the show season for a year end Grand Championship. Exciting to watch for the entire family.
X-ALT-DESC;FMTTYPE=text/html:There are three main divisions at a hunter/jumper horse show: hunter\, jumper and equitation. In all three\, a rider guides a horse over a set course of obstacles in a ring. Horse and rider who belong to the Dallas Hunter &amp\; Jumper Scholarship Club will compete after earning points throughout the show season for a year end Grand Championship. Exciting to watch for the entire family.
LOCATION:Texas Rose Horse Park
UID:e.1648.15551
SEQUENCE:3
DTSTAMP:20260420T102513Z
URL:http://tylerarea.sampleorg.com/events/details/dhjsc-hunter-jumper-year-end-show-15551
END:VEVENT

END:VCALENDAR
