BEGIN:VCALENDAR
VERSION:2.0
PRODID:-//ChamberMaster//Event Calendar 2.0//EN
METHOD:PUBLISH
X-PUBLISHED-TTL:P3D
REFRESH-INTERVAL:P3D
CALSCALE:GREGORIAN
BEGIN:VEVENT
DTSTART:20251025T220000Z
DTEND:20251025T233000Z
X-MICROSOFT-CDO-ALLDAYEVENT:FALSE
SUMMARY:Cowan in the Community: Tunes\, Tricks and Treats
DESCRIPTION:Free family friendly fun! The evening will feature Halloween themed music as well as pumpkin decorating\, food trucks\, candy and more while supplies last. Performances by the UT Tyler Patriot Brass Quintet\, Flute Choir\, Music Theater\, Piano Studio\, Jazz Ensemble and Concert Chorale will be featured on the main stage.
X-ALT-DESC;FMTTYPE=text/html:Free family friendly fun! The evening will feature Halloween themed music as well as pumpkin decorating\, food trucks\, candy and more while supplies last. Performances by the UT Tyler Patriot Brass Quintet\, Flute Choir\, Music Theater\, Piano Studio\, Jazz Ensemble and Concert Chorale will be featured on the main stage.
LOCATION:Bergfeld Park
UID:e.1648.16239
SEQUENCE:3
DTSTAMP:20260419T155957Z
URL:http://tylerarea.sampleorg.com/events/details/cowan-in-the-community-tunes-tricks-and-treats-16239
END:VEVENT

END:VCALENDAR
