BEGIN:VCALENDAR
VERSION:2.0
PRODID:-//ChamberMaster//Event Calendar 2.0//EN
METHOD:PUBLISH
X-PUBLISHED-TTL:P3D
REFRESH-INTERVAL:P3D
CALSCALE:GREGORIAN
BEGIN:VEVENT
DTSTART:20241207T150000Z
DTEND:20241207T170000Z
X-MICROSOFT-CDO-ALLDAYEVENT:FALSE
SUMMARY:Cookies with Santa
DESCRIPTION:FREE! Please bring your family to kick off the holidadays with a festive morning of Christmas cookies\, crafts and Santa! Bring your phone or camera to take pictures with Santa\, free of charge. Parents/ guardians must stay with children for this event.
X-ALT-DESC;FMTTYPE=text/html:FREE! Please bring your family to kick off the holidadays with a festive morning of Christmas cookies\, crafts and Santa! Bring your phone or camera to take pictures with Santa\, free of charge. Parents/ guardians must stay with children for this event.
LOCATION:Glenwood Church 5210 Hollytree Dr. Tyler\, TX 75703
UID:e.1648.15858
SEQUENCE:3
DTSTAMP:20260420T061647Z
URL:http://tylerarea.sampleorg.com/events/details/cookies-with-santa-15858
END:VEVENT

END:VCALENDAR
