BEGIN:VCALENDAR
VERSION:2.0
PRODID:-//ChamberMaster//Event Calendar 2.0//EN
METHOD:PUBLISH
X-PUBLISHED-TTL:P3D
REFRESH-INTERVAL:P3D
CALSCALE:GREGORIAN
BEGIN:VEVENT
DTSTART:20240921T010000Z
DTEND:20240921T030000Z
X-MICROSOFT-CDO-ALLDAYEVENT:FALSE
SUMMARY:Comedy Show Fundraiser
DESCRIPTION:Comedy Show Fundraiser for Mental Health to support a nonprofit organization.
X-ALT-DESC;FMTTYPE=text/html:Comedy Show Fundraiser for Mental Health to support a nonprofit organization.
LOCATION:117 W Front St Tyler TX
UID:e.1648.15825
SEQUENCE:3
DTSTAMP:20260420T101853Z
URL:http://tylerarea.sampleorg.com/events/details/comedy-show-fundraiser-15825
END:VEVENT

END:VCALENDAR
