BEGIN:VCALENDAR
VERSION:2.0
PRODID:-//ChamberMaster//Event Calendar 2.0//EN
METHOD:PUBLISH
X-PUBLISHED-TTL:P3D
REFRESH-INTERVAL:P3D
CALSCALE:GREGORIAN
BEGIN:VEVENT
DTSTART:20250823T230000Z
DTEND:20250824T030000Z
X-MICROSOFT-CDO-ALLDAYEVENT:FALSE
SUMMARY:Casino Royale
DESCRIPTION:Step into the glitz and glamour of a thrilling evening at our Casino Night Fundraiser! Join us for an unforgettable night of high-stakes excitement\, where you can try your luck at classic casino games like blackjack\, roulette\, craps and poker. Indulge in delicious cocktails and a buffet style dinner as you mingle with friends and fellow supporters\, all while contributing to a worthy cause. With dazzling raffles\, a wine pull\, photo booths\, and live entertainment\, this event promises to be an unforgettable blend of entertainment and philanthropy. This is an ADULTS ONLY event! Tickets coming soon!
X-ALT-DESC;FMTTYPE=text/html:Step into the glitz and glamour of a thrilling evening at our Casino Night Fundraiser! Join us for an unforgettable night of high-stakes excitement\, where you can try your luck at classic casino games like blackjack\, roulette\, craps and poker. Indulge in delicious cocktails and a buffet style dinner as you mingle with friends and fellow supporters\, all while contributing to a worthy cause. With dazzling raffles\, a wine pull\, photo booths\, and live entertainment\, this event promises to be an unforgettable blend of entertainment and philanthropy. This is an ADULTS ONLY event! Tickets coming soon!
LOCATION:Cascades Country Club 4511 Briarwood Rd Tyler\, TX 75709
UID:e.1648.16010
SEQUENCE:3
DTSTAMP:20260419T190335Z
URL:http://tylerarea.sampleorg.com/events/details/casino-royale-16010
END:VEVENT

END:VCALENDAR
