BEGIN:VCALENDAR
VERSION:2.0
PRODID:-//ChamberMaster//Event Calendar 2.0//EN
METHOD:PUBLISH
X-PUBLISHED-TTL:P3D
REFRESH-INTERVAL:P3D
CALSCALE:GREGORIAN
BEGIN:VEVENT
DTSTART:20251021T223000Z
DTEND:20251022T003000Z
X-MICROSOFT-CDO-ALLDAYEVENT:FALSE
SUMMARY:CASA: Back to the 90s
DESCRIPTION:Enjoy all you can eat\, entertainment\, networking\, games\, activities\, pie in the face challenge with community leaders\, pinanta\, treat walk\, and a giant auction! You won't want to miss this. Family friendly.
X-ALT-DESC;FMTTYPE=text/html:Enjoy all you can eat\, entertainment\, networking\, games\, activities\, pie in the face challenge with community leaders\, pinanta\, treat walk\, and a giant auction! You won&#39\;t want to miss this. Family friendly.
LOCATION:CASA for Kids of East Texas
UID:e.1648.16188
SEQUENCE:3
DTSTAMP:20260419T155756Z
URL:http://tylerarea.sampleorg.com/events/details/casa-back-to-the-90s-16188
END:VEVENT

END:VCALENDAR
