BEGIN:VCALENDAR
VERSION:2.0
PRODID:-//ChamberMaster//Event Calendar 2.0//EN
METHOD:PUBLISH
X-PUBLISHED-TTL:P3D
REFRESH-INTERVAL:P3D
CALSCALE:GREGORIAN
BEGIN:VEVENT
DTSTART:20250411T170000Z
DTEND:20250411T180000Z
X-MICROSOFT-CDO-ALLDAYEVENT:FALSE
SUMMARY:Cardiovascular & Brain Health in Texas
DESCRIPTION:Hear from Dr. Eduardo Sanchez\, who serves as Chief Medical Officer (CMO) for Prevention for the American Heart Association (AHA)\, as he addresses the state of cardiovascular and brain health in Texas.
X-ALT-DESC;FMTTYPE=text/html:Hear from Dr. Eduardo Sanchez\, who serves as Chief Medical Officer (CMO) for Prevention for the American Heart Association (AHA)\, as he addresses the state of cardiovascular and brain health in Texas.
LOCATION:UT Tyler University Center\, Mabry Theater\, 3900 University Blvd.\, Tyler\, TX 75799
UID:e.1648.16051
SEQUENCE:3
DTSTAMP:20260420T011528Z
URL:http://tylerarea.sampleorg.com/events/details/cardiovascular-brain-health-in-texas-16051
END:VEVENT

END:VCALENDAR
