BEGIN:VCALENDAR
VERSION:2.0
PRODID:-//ChamberMaster//Event Calendar 2.0//EN
METHOD:PUBLISH
X-PUBLISHED-TTL:P3D
REFRESH-INTERVAL:P3D
CALSCALE:GREGORIAN
BEGIN:VEVENT
DTSTART:20251106T220000Z
DTEND:20251107T010000Z
X-MICROSOFT-CDO-ALLDAYEVENT:FALSE
SUMMARY:Capital Title Grand Opening
DESCRIPTION:Capital Title is proud to celebrate one year of serving the Tyler community and the grand opening and ribbon cutting of our new location! Join us for an evening of great food\, drinks\, and connection as we celebrate how far we've come and look ahead to the exciting opportunities ahead. We're grateful for the real estate partnerships that made this milestone possible and can't wait to share what's next for Capital Title in East Texas.
X-ALT-DESC;FMTTYPE=text/html:Capital Title is proud to celebrate one year of serving the Tyler community and the grand opening and ribbon cutting of our new location! Join us for an evening of great food\, drinks\, and connection as we celebrate how far we&rsquo\;ve come and look ahead to the exciting opportunities ahead. We&rsquo\;re grateful for the real estate partnerships that made this milestone possible and can&rsquo\;t wait to share what&rsquo\;s next for Capital Title in East Texas.
LOCATION:Capital Title - Tyler 6115 New Copeland Rd\, Suite 210 Tyler\, TX 75703
UID:e.1648.16248
SEQUENCE:3
DTSTAMP:20260419T143331Z
URL:http://tylerarea.sampleorg.com/events/details/capital-title-grand-opening-16248
END:VEVENT

END:VCALENDAR
