BEGIN:VCALENDAR
VERSION:2.0
PRODID:-//ChamberMaster//Event Calendar 2.0//EN
METHOD:PUBLISH
X-PUBLISHED-TTL:P3D
REFRESH-INTERVAL:P3D
CALSCALE:GREGORIAN
BEGIN:VEVENT
DTSTART;VALUE=DATE:20250828
DTEND;VALUE=DATE:20250831
TRANSP:TRANSPARENT
X-MICROSOFT-CDO-ALLDAYEVENT:TRUE
SUMMARY:Calvary Commission Conference
DESCRIPTION:The 48th annual Calvary Commission conference will be a powerful time. The conference begins on Thursday\, 28th August at 10am\, with sessions through Saturday\, 30th August\, at 10am\, 2pm and 7pm\; lunch and dinner are provided. We'd love to see you there ??
X-ALT-DESC;FMTTYPE=text/html:The 48th annual Calvary Commission conference will be a powerful time. The conference begins on Thursday\, 28th August at 10am\, with sessions through Saturday\, 30th August\, at 10am\, 2pm and 7pm\; lunch and dinner are provided. We&rsquo\;d love to see you there ??
LOCATION:Calvary Commission Campus 15983 CR 4140 Lindale Tx 75771
UID:e.1648.16197
SEQUENCE:3
DTSTAMP:20260419T174505Z
URL:http://tylerarea.sampleorg.com/events/details/calvary-commission-conference-16197
END:VEVENT

END:VCALENDAR
