BEGIN:VCALENDAR
VERSION:2.0
PRODID:-//ChamberMaster//Event Calendar 2.0//EN
METHOD:PUBLISH
X-PUBLISHED-TTL:P3D
REFRESH-INTERVAL:P3D
CALSCALE:GREGORIAN
BEGIN:VEVENT
DTSTART:20250714T130000Z
DTEND:20250717T170000Z
X-MICROSOFT-CDO-ALLDAYEVENT:FALSE
SUMMARY:Brunson Equestrian Summer Horse Camp Session VI
DESCRIPTION:BEC Summer Camp Program is an excellent introduction for children who want to learn about and ride horses\, and an Advanced Camp Program provides more extensive instruction for those already in lessons or with previous horse experience.
X-ALT-DESC;FMTTYPE=text/html:BEC Summer Camp Program is an excellent introduction for children who want to learn about and ride horses\, and an Advanced Camp Program provides more extensive instruction for those already in lessons or with previous horse experience.
LOCATION:Texas Rose Horse Park
UID:e.1648.15967
SEQUENCE:3
DTSTAMP:20260419T203903Z
URL:http://tylerarea.sampleorg.com/events/details/brunson-equestrian-summer-horse-camp-session-vi-15967
END:VEVENT

END:VCALENDAR
