BEGIN:VCALENDAR
VERSION:2.0
PRODID:-//ChamberMaster//Event Calendar 2.0//EN
METHOD:PUBLISH
X-PUBLISHED-TTL:P3D
REFRESH-INTERVAL:P3D
CALSCALE:GREGORIAN
BEGIN:VEVENT
DTSTART:20250821T220000Z
DTEND:20250822T000000Z
X-MICROSOFT-CDO-ALLDAYEVENT:FALSE
SUMMARY:Breckenridge Village Art Gallery Open House
DESCRIPTION:You're Invited! Experience the creativity and talent of the residents and participants of Breckenridge Village at our Art Gallery Open House\, hosted at Gallery 113 inside the Southside Bank Downtown Branch. All artwork on display has been thoughtfully created by individuals with intellectual and developmental disabilities\, showcasing their unique perspectives and artistic voices. While the open house takes place on August 21\, the gallery will be open for viewing from August 18 through September 5 during regular business hours. A highlight of this year's exhibit is "Bubba's Art Gallery" a special curated section by one of our talented artists\, Bubba. His creative vision brings the entire gallery to life. You'll also have the opportunity to meet Bubba and several other residents during the open house and hear firsthand about the inspiration behind their artwork. We hope you'll join us in celebrating these incredible artists and their work!
X-ALT-DESC;FMTTYPE=text/html:You&rsquo\;re Invited! Experience the creativity and talent of the residents and participants of Breckenridge Village at our Art Gallery Open House\, hosted at Gallery 113 inside the Southside Bank Downtown Branch. All artwork on display has been thoughtfully created by individuals with intellectual and developmental disabilities\, showcasing their unique perspectives and artistic voices. While the open house takes place on August 21\, the gallery will be open for viewing from August 18 through September 5 during regular business hours. A highlight of this year&rsquo\;s exhibit is &ldquo\;Bubba&rsquo\;s Art Gallery&rdquo\;&mdash\;a special curated section by one of our talented artists\, Bubba. His creative vision brings the entire gallery to life. You&rsquo\;ll also have the opportunity to meet Bubba and several other residents during the open house and hear firsthand about the inspiration behind their artwork. We hope you&rsquo\;ll join us in celebrating these incredible artists and their work!
LOCATION:Southside Bank Downtown Branch - 113 W Ferguson St Tyler\, Texas 75702
UID:e.1648.16155
SEQUENCE:3
DTSTAMP:20260419T192920Z
URL:http://tylerarea.sampleorg.com/events/details/breckenridge-village-art-gallery-open-house-16155
END:VEVENT

END:VCALENDAR
