BEGIN:VCALENDAR
VERSION:2.0
PRODID:-//ChamberMaster//Event Calendar 2.0//EN
METHOD:PUBLISH
X-PUBLISHED-TTL:P3D
REFRESH-INTERVAL:P3D
CALSCALE:GREGORIAN
BEGIN:VEVENT
DTSTART:20250913T230000Z
DTEND:20250914T013000Z
X-MICROSOFT-CDO-ALLDAYEVENT:FALSE
SUMMARY:Boots & Blueprints Gala Benefitting Habitat for Humanity of Smith County
DESCRIPTION:The Boots & Blueprints Gala is Habitat for Humanity of Smith County's signature fall fundraiser\, supporting their mission to build strength\, stability\, and self-reliance through affordable homeownership. Scheduled for September 13 at Willow Brook Country Club\, the event raises critical funds to help local families achieve the dream of a safe\, decent home.
X-ALT-DESC;FMTTYPE=text/html:The Boots &amp\; Blueprints Gala is Habitat for Humanity of Smith County&rsquo\;s signature fall fundraiser\, supporting their mission to build strength\, stability\, and self-reliance through affordable homeownership. Scheduled for September 13 at Willow Brook Country Club\, the event raises critical funds to help local families achieve the dream of a safe\, decent home.
LOCATION:Willow Brook Country Club
UID:e.1648.16193
SEQUENCE:3
DTSTAMP:20260419T160627Z
URL:http://tylerarea.sampleorg.com/events/details/boots-blueprints-gala-benefitting-habitat-for-humanity-of-smith-county-16193
END:VEVENT

END:VCALENDAR
