BEGIN:VCALENDAR
VERSION:2.0
PRODID:-//ChamberMaster//Event Calendar 2.0//EN
METHOD:PUBLISH
X-PUBLISHED-TTL:P3D
REFRESH-INTERVAL:P3D
CALSCALE:GREGORIAN
BEGIN:VEVENT
DTSTART:20241012T000000Z
DTEND:20241012T030000Z
X-MICROSOFT-CDO-ALLDAYEVENT:FALSE
SUMMARY:Boos & Bourbon: A Night of Scary Science
DESCRIPTION:Get ready for a hair-raising & hauntingly delightful evening at our Halloween themed "Boos & Bourbon: A Night of Scary Science" event fundraiser! Join us for spine-chilling fun & unique bourbon tastings\, for a great cause. Haunted Bourbon Tastings\, Ghostly Costume Contest\, Eerie Entertainment\, Wicked Live Auction\, Spooktacular Food & Drinks and Creepy Cocktails This is an ADULTS ONLY event! Costumes are encouraged\, not mandatory.
X-ALT-DESC;FMTTYPE=text/html:Get ready for a hair-raising &amp\; hauntingly delightful evening at our Halloween themed &ldquo\;Boos &amp\; Bourbon: A Night of Scary Science&rdquo\; event fundraiser! Join us for spine-chilling fun &amp\; unique bourbon tastings\, for a great cause. Haunted Bourbon Tastings\, Ghostly Costume Contest\, Eerie Entertainment\, Wicked Live Auction\, Spooktacular Food &amp\; Drinks and Creepy Cocktails This is an ADULTS ONLY event! Costumes are encouraged\, not mandatory.
LOCATION:Discovery Science Place 308 N. Broadway Tyler\, TX 75702
UID:e.1648.15823
SEQUENCE:3
DTSTAMP:20260420T090304Z
URL:http://tylerarea.sampleorg.com/events/details/boos-bourbon-a-night-of-scary-science-15823
END:VEVENT

END:VCALENDAR
