BEGIN:VCALENDAR
VERSION:2.0
PRODID:-//ChamberMaster//Event Calendar 2.0//EN
METHOD:PUBLISH
X-PUBLISHED-TTL:P3D
REFRESH-INTERVAL:P3D
CALSCALE:GREGORIAN
BEGIN:VEVENT
DTSTART:20250903T223000Z
DTEND:20250905T020000Z
X-MICROSOFT-CDO-ALLDAYEVENT:FALSE
SUMMARY:Bling-O 2025
DESCRIPTION:The Children's Advocacy Center of Smith County will host Bling-O 2025 for the largest ladies night out in East Texas. Women play 10 games of bingo for designer purses along with many other opportunities to walk away with spectacular gifts and prizes.
X-ALT-DESC;FMTTYPE=text/html:The Children&#39\;s Advocacy Center of Smith County will host Bling-O 2025 for the largest ladies night out in East Texas. Women play 10 games of bingo for designer purses along with many other opportunities to walk away with spectacular gifts and prizes.
LOCATION:W.T. Brookshire Conference Center 2000 W. Front Street Tyler\, TX 75702
UID:e.1648.15852
SEQUENCE:3
DTSTAMP:20260419T190257Z
URL:http://tylerarea.sampleorg.com/events/details/bling-o-2025-15852
END:VEVENT

END:VCALENDAR
