BEGIN:VCALENDAR
VERSION:2.0
PRODID:-//ChamberMaster//Event Calendar 2.0//EN
METHOD:PUBLISH
X-PUBLISHED-TTL:P3D
REFRESH-INTERVAL:P3D
CALSCALE:GREGORIAN
BEGIN:VEVENT
DTSTART:20240904T223000Z
DTEND:20240906T020000Z
X-MICROSOFT-CDO-ALLDAYEVENT:FALSE
SUMMARY:Bling-O
DESCRIPTION:Bling-O\, a ladies-night-out of Bingo played for designer purses\, is a fun night of games\, food\, and fellowship. The event will include a silent auction as well as many additional games\, a chance drawing for a Louis Vuitton purse and more fun surprises. Come enjoy the evening and see if you can take home a little bling from Bling-O!
X-ALT-DESC;FMTTYPE=text/html:Bling-O\, a ladies-night-out of Bingo played for designer purses\, is a fun night of games\, food\, and fellowship. The event will include a silent auction as well as many additional games\, a chance drawing for a Louis Vuitton purse and more fun surprises. Come enjoy the evening and see if you can take home a little bling from Bling-O!
LOCATION:W.T. Brookshire Conference Center
UID:e.1648.15680
SEQUENCE:3
DTSTAMP:20260420T102048Z
URL:http://tylerarea.sampleorg.com/events/details/bling-o-09-04-2024-15680
END:VEVENT

END:VCALENDAR
