BEGIN:VCALENDAR
VERSION:2.0
PRODID:-//ChamberMaster//Event Calendar 2.0//EN
METHOD:PUBLISH
X-PUBLISHED-TTL:P3D
REFRESH-INTERVAL:P3D
CALSCALE:GREGORIAN
BEGIN:VEVENT
DTSTART;VALUE=DATE:20250517
DTEND;VALUE=DATE:20250518
TRANSP:TRANSPARENT
X-MICROSOFT-CDO-ALLDAYEVENT:TRUE
SUMMARY:Blind Ambition
DESCRIPTION:Blind Ambition is back for another unforgettable day of community\, craft beer\, and giving back   all in support of Camp Lighthouse! Come enjoy live music\, local vendors\, a silent auction\, and of course\, the exclusive Blind Ambition Beer brewed specially for this event. Proceeds from the sale of Blind Ambition Beer go directly to Camp Lighthouse   a life-changing summer camp experience for blind and visually impaired high school students hosted by East Texas Lighthouse. Every donation helps teens build independence\, confidence\, and lasting friendships. Make a gift of $20 or more and receive a free event t-shirt! Learn more at easttexaslighthouse.org Come raise a glass for a great cause   we can't wait to see you there!
X-ALT-DESC;FMTTYPE=text/html:Blind Ambition is back for another unforgettable day of community\, craft beer\, and giving back &mdash\; all in support of Camp Lighthouse! Come enjoy live music\, local vendors\, a silent auction\, and of course\, the exclusive Blind Ambition Beer brewed specially for this event. Proceeds from the sale of Blind Ambition Beer go directly to Camp Lighthouse &mdash\; a life-changing summer camp experience for blind and visually impaired high school students hosted by East Texas Lighthouse. Every donation helps teens build independence\, confidence\, and lasting friendships. Make a gift of $20 or more and receive a free event t-shirt! Learn more at easttexaslighthouse.org Come raise a glass for a great cause &mdash\; we can&rsquo\;t wait to see you there!
LOCATION:ETX Brewing 221 S Broadway Ave. Tyler\, TX 75702
UID:e.1648.16141
SEQUENCE:3
DTSTAMP:20260419T220919Z
URL:http://tylerarea.sampleorg.com/events/details/blind-ambition-16141
END:VEVENT

END:VCALENDAR
